BEGIN:VCALENDAR
VERSION:2.0
CALSCALE:GREGORIAN
PRODID:-//Diputació de Barcelona//DibaCMS//EN
BEGIN:VEVENT
UID:1475
DTSTAMP:20260419T142457
DTSTART:20181019T180000
DTEND:20181019T190000
SUMMARY:Taller de tècniques d’estudi
LOCATION:
METHOD:PUBLISH
X-WR-CALNAME:st.llorensh@ajhortons.cat
X-WR-TIMEZONE:Europe/Madrid
DESCRIPTION:Cal Jove organitza un taller gratuït .

URI:https://www.ajhortons.cat/actualitat/agenda/1475-taller-de-tecniques-destudi.html
CLASS:PUBLIC
END:VEVENT
END:VCALENDAR
