BEGIN:VCALENDAR
VERSION:2.0
CALSCALE:GREGORIAN
PRODID:-//Diputació de Barcelona//DibaCMS//EN
BEGIN:VEVENT
UID:1770
DTSTAMP:20260421T013707
DTSTART:20241119T000000
DTEND:20241119T000000
SUMMARY:El 19 de novembre se celebra el Dia Mundial per a la prevenció de les violències contra els nens, nenes i adolescents 
LOCATION:Major, 36 08791 Sant Llorenç d'Hortons
METHOD:PUBLISH
X-WR-CALNAME:st.llorensh@ajhortons.cat
X-WR-TIMEZONE:Europe/Madrid
DESCRIPTION:
URI:https://www.ajhortons.cat/actualitat/agenda/el-19-de-novembre-se-celebra-el-dia-mundial-per-a-la-prevencio-de-les-violencies-contra-els-nens-nenes-i-adolescents-.html
CLASS:PUBLIC
END:VEVENT
END:VCALENDAR
