BEGIN:VCALENDAR
VERSION:2.0
CALSCALE:GREGORIAN
PRODID:-//Diputació de Barcelona//DibaCMS//EN
BEGIN:VEVENT
UID:1996
DTSTAMP:20260421T014249
DTSTART:20241124T170000
DTEND:20241124T180000
SUMMARY:Concert de la Coral Primavera per Santa Cecília
LOCATION:Plaça de la Rectoría 08791 Sant Llorenç d'Hortons
METHOD:PUBLISH
X-WR-CALNAME:st.llorensh@ajhortons.cat
X-WR-TIMEZONE:Europe/Madrid
DESCRIPTION:El pròxim diumenge, 24 de novembre, a les 17.00 hores tindrà lloc a l'Església Parroquial de Sant Llorenç d'Hortons el concert de la Coral Primavera per Santa Cecília 2024.

URI:https://www.ajhortons.cat/actualitat/agenda/concert-de-la-coral-primavera-per-santa-cecilia.html
CLASS:PUBLIC
END:VEVENT
END:VCALENDAR
