BEGIN:VCALENDAR
VERSION:2.0
CALSCALE:GREGORIAN
PRODID:-//Diputació de Barcelona//DibaCMS//EN
BEGIN:VEVENT
UID:2579
DTSTAMP:20260419T175816
DTSTART:20211126T193000
DTEND:20211126T200500
SUMMARY:ANUNCI CONVOCATÒRIA DE PLE 
LOCATION:Major, 36 08791 Sant Llorenç d'Hortons
METHOD:PUBLISH
X-WR-CALNAME:st.llorensh@ajhortons.cat
X-WR-TIMEZONE:Europe/Madrid
DESCRIPTION:
URI:https://www.ajhortons.cat/actualitat/agenda/anunci-convocatoria-de-ple-.html
CLASS:PUBLIC
END:VEVENT
END:VCALENDAR
