BEGIN:VCALENDAR
VERSION:2.0
CALSCALE:GREGORIAN
PRODID:-//Diputació de Barcelona//DibaCMS//EN
BEGIN:VEVENT
UID:2611
DTSTAMP:20260419T160644
DTSTART:20211225T131500
DTEND:20211225T140000
SUMMARY:Cagar el tió 
LOCATION:Major, 27 08791 Sant Llorenç d'Hortons
METHOD:PUBLISH
X-WR-CALNAME:st.llorensh@ajhortons.cat
X-WR-TIMEZONE:Europe/Madrid
DESCRIPTION:
URI:https://www.ajhortons.cat/actualitat/agenda/cagar-el-tio-.html
CLASS:PUBLIC
END:VEVENT
END:VCALENDAR
