BEGIN:VCALENDAR
VERSION:2.0
CALSCALE:GREGORIAN
PRODID:-//Diputació de Barcelona//DibaCMS//EN
BEGIN:VEVENT
UID:2724
DTSTAMP:20260419T211243
DTSTART:20220409T170000
DTEND:20220409T180000
SUMMARY:Taller descobrint el món de la llana 
LOCATION:Carrer Major,51 
METHOD:PUBLISH
X-WR-CALNAME:st.llorensh@ajhortons.cat
X-WR-TIMEZONE:Europe/Madrid
DESCRIPTION:
URI:https://www.ajhortons.cat/actualitat/agenda/taller-descobrint-el-mon-de-la-llana-.html
CLASS:PUBLIC
END:VEVENT
END:VCALENDAR
