BEGIN:VCALENDAR
VERSION:2.0
CALSCALE:GREGORIAN
PRODID:-//Diputació de Barcelona//DibaCMS//EN
BEGIN:VEVENT
UID:2779
DTSTAMP:20260419T194236
DTSTART:20220512T000000
DTEND:20220512T000000
SUMMARY: Omplir de vida els anys, i no la vida d'anys
LOCATION:Pau Casals, 12 08791 Sant Llorenç d'Hortons
METHOD:PUBLISH
X-WR-CALNAME:st.llorensh@ajhortons.cat
X-WR-TIMEZONE:Europe/Madrid
DESCRIPTION:Vine a la quarta sessió del cicle de xerrades amb el psicòleg Martí García sobre benestar personal. En aquesta ocasió, ens parlarà de 'Omplir de vida els anys, i no la vida d'anys'

URI:https://www.ajhortons.cat/actualitat/agenda/-omplir-de-vida-els-anys-i-no-la-vida-danys.html
CLASS:PUBLIC
END:VEVENT
END:VCALENDAR
