BEGIN:VCALENDAR
VERSION:2.0
CALSCALE:GREGORIAN
PRODID:-//Diputació de Barcelona//DibaCMS//EN
BEGIN:VEVENT
UID:2808
DTSTAMP:20260420T003503
DTSTART:20220612T000000
DTEND:20220612T000000
SUMMARY:CAMINADA DELS RELLOTGES DE SOL 
LOCATION:Pl Marimon L 
METHOD:PUBLISH
X-WR-CALNAME:st.llorensh@ajhortons.cat
X-WR-TIMEZONE:Europe/Madrid
DESCRIPTION:
URI:https://www.ajhortons.cat/actualitat/agenda/caminada-dels-rellotges-de-sol-.html
CLASS:PUBLIC
END:VEVENT
END:VCALENDAR
