BEGIN:VCALENDAR
VERSION:2.0
CALSCALE:GREGORIAN
PRODID:-//Diputació de Barcelona//DibaCMS//EN
BEGIN:VEVENT
UID:2850
DTSTAMP:20260419T224651
DTSTART:20220703T180000
DTEND:20220703T190000
SUMMARY:L’hortonenc Raül Baell treu la sèrie sobre seguretat vial ‘Un segon per canviar
LOCATION:
METHOD:PUBLISH
X-WR-CALNAME:st.llorensh@ajhortons.cat
X-WR-TIMEZONE:Europe/Madrid
DESCRIPTION:Segona sessió.

URI:https://www.ajhortons.cat/actualitat/agenda/2850-lhortonenc-raul-baell-treu-la-serie-sobre-seguretat-vial-un-segon-per-canviar.html
CLASS:PUBLIC
END:VEVENT
END:VCALENDAR
