BEGIN:VCALENDAR
VERSION:2.0
CALSCALE:GREGORIAN
PRODID:-//Diputació de Barcelona//DibaCMS//EN
BEGIN:VEVENT
UID:2891
DTSTAMP:20260419T231158
DTSTART:20220704T000000
DTEND:20220717T000000
SUMMARY:Votar les propostes dels Pressupostos Participatius 2022! 
LOCATION:
METHOD:PUBLISH
X-WR-CALNAME:st.llorensh@ajhortons.cat
X-WR-TIMEZONE:Europe/Madrid
DESCRIPTION:
URI:https://www.ajhortons.cat/actualitat/agenda/votar-les-propostes-dels-pressupostos-participatius-2022-.html
CLASS:PUBLIC
END:VEVENT
END:VCALENDAR
