BEGIN:VCALENDAR
VERSION:2.0
CALSCALE:GREGORIAN
PRODID:-//Diputació de Barcelona//DibaCMS//EN
BEGIN:VEVENT
UID:2907
DTSTAMP:20260419T211913
DTSTART:20220712T180000
DTEND:20220712T180000
SUMMARY:Viu l'esport DE FORMA SALUDABLE
LOCATION:Carrer Generalitat,47 
METHOD:PUBLISH
X-WR-CALNAME:st.llorensh@ajhortons.cat
X-WR-TIMEZONE:Europe/Madrid
DESCRIPTION:
URI:https://www.ajhortons.cat/actualitat/agenda/viu-lesport-de-forma-saludable.html
CLASS:PUBLIC
END:VEVENT
END:VCALENDAR
