BEGIN:VCALENDAR
VERSION:2.0
CALSCALE:GREGORIAN
PRODID:-//Diputació de Barcelona//DibaCMS//EN
BEGIN:VEVENT
UID:2932
DTSTAMP:20260419T231929
DTSTART:20220810T235500
DTEND:20220811T020000
SUMMARY:La Salseta del Poble Sec
LOCATION:Pl Mossen Cmerma  
METHOD:PUBLISH
X-WR-CALNAME:st.llorensh@ajhortons.cat
X-WR-TIMEZONE:Europe/Madrid
DESCRIPTION:
URI:https://www.ajhortons.cat/actualitat/agenda/la-salseta-del-poble-sec.html
CLASS:PUBLIC
END:VEVENT
END:VCALENDAR
