BEGIN:VCALENDAR
VERSION:2.0
CALSCALE:GREGORIAN
PRODID:-//Diputació de Barcelona//DibaCMS//EN
BEGIN:VEVENT
UID:2934
DTSTAMP:20260419T231829
DTSTART:20220811T230000
DTEND:20220812T010000
SUMMARY:Concert i ball amb Orgue de Gats
LOCATION:
METHOD:PUBLISH
X-WR-CALNAME:st.llorensh@ajhortons.cat
X-WR-TIMEZONE:Europe/Madrid
DESCRIPTION:
URI:https://www.ajhortons.cat/actualitat/agenda/concert-i-ball-amb-orgue-de-gats.html
CLASS:PUBLIC
END:VEVENT
END:VCALENDAR
