BEGIN:VCALENDAR
VERSION:2.0
CALSCALE:GREGORIAN
PRODID:-//Diputació de Barcelona//DibaCMS//EN
BEGIN:VEVENT
UID:2939
DTSTAMP:20260419T212421
DTSTART:20220723T180000
DTEND:20220723T200000
SUMMARY:Venda de sammaretes del Terrazel 
LOCATION:Carrer major,45  
METHOD:PUBLISH
X-WR-CALNAME:st.llorensh@ajhortons.cat
X-WR-TIMEZONE:Europe/Madrid
DESCRIPTION:
URI:https://www.ajhortons.cat/actualitat/agenda/venda-de-sammaretes-del-terrazel-.html
CLASS:PUBLIC
END:VEVENT
END:VCALENDAR
