BEGIN:VCALENDAR
VERSION:2.0
CALSCALE:GREGORIAN
PRODID:-//Diputació de Barcelona//DibaCMS//EN
BEGIN:VEVENT
UID:2940
DTSTAMP:20260419T211311
DTSTART:20220730T150000
DTEND:20220730T200000
SUMMARY:Venda de sammaretes del Terrazel  
LOCATION:Trobada gegantera  
METHOD:PUBLISH
X-WR-CALNAME:st.llorensh@ajhortons.cat
X-WR-TIMEZONE:Europe/Madrid
DESCRIPTION:
URI:https://www.ajhortons.cat/actualitat/agenda/2940-venda-de-sammaretes-del-terrazel-.html
CLASS:PUBLIC
END:VEVENT
END:VCALENDAR
