BEGIN:VCALENDAR
VERSION:2.0
CALSCALE:GREGORIAN
PRODID:-//Diputació de Barcelona//DibaCMS//EN
BEGIN:VEVENT
UID:2944
DTSTAMP:20260419T230018
DTSTART:20220811T190000
DTEND:20220811T210000
SUMMARY:COBLA REUS JOVE
LOCATION:
METHOD:PUBLISH
X-WR-CALNAME:st.llorensh@ajhortons.cat
X-WR-TIMEZONE:Europe/Madrid
DESCRIPTION:
URI:https://www.ajhortons.cat/actualitat/agenda/cobla-reus-jove.html
CLASS:PUBLIC
END:VEVENT
END:VCALENDAR
