BEGIN:VCALENDAR
VERSION:2.0
CALSCALE:GREGORIAN
PRODID:-//Diputació de Barcelona//DibaCMS//EN
BEGIN:VEVENT
UID:2955
DTSTAMP:20260420T011217
DTSTART:20220808T190000
DTEND:20220808T203000
SUMMARY:Tast de vins by Mambo
LOCATION:
METHOD:PUBLISH
X-WR-CALNAME:st.llorensh@ajhortons.cat
X-WR-TIMEZONE:Europe/Madrid
DESCRIPTION:
URI:https://www.ajhortons.cat/actualitat/agenda/tast-de-vins-by-mambo.html
CLASS:PUBLIC
END:VEVENT
END:VCALENDAR
