BEGIN:VCALENDAR
VERSION:2.0
CALSCALE:GREGORIAN
PRODID:-//Diputació de Barcelona//DibaCMS//EN
BEGIN:VEVENT
UID:2958
DTSTAMP:20260420T005638
DTSTART:20220810T120000
DTEND:20220810T120000
SUMMARY:Misa Solemne
LOCATION:
METHOD:PUBLISH
X-WR-CALNAME:st.llorensh@ajhortons.cat
X-WR-TIMEZONE:Europe/Madrid
DESCRIPTION:
URI:https://www.ajhortons.cat/actualitat/agenda/misa-solemne.html
CLASS:PUBLIC
END:VEVENT
END:VCALENDAR
