BEGIN:VCALENDAR
VERSION:2.0
CALSCALE:GREGORIAN
PRODID:-//Diputació de Barcelona//DibaCMS//EN
BEGIN:VEVENT
UID:2965
DTSTAMP:20260420T003159
DTSTART:20220730T180000
DTEND:20220730T190000
SUMMARY:23è Terrazel de Gegants - PLANTADA
LOCATION:PL MN. Comerma  
METHOD:PUBLISH
X-WR-CALNAME:st.llorensh@ajhortons.cat
X-WR-TIMEZONE:Europe/Madrid
DESCRIPTION:18:00h Arribada de les colles i plantada de gegants a la plaça Mossen Comerma. 

URI:https://www.ajhortons.cat/actualitat/agenda/23e-terrazel-de-gegants-plantada.html
CLASS:PUBLIC
END:VEVENT
END:VCALENDAR
