BEGIN:VCALENDAR
VERSION:2.0
CALSCALE:GREGORIAN
PRODID:-//Diputació de Barcelona//DibaCMS//EN
BEGIN:VEVENT
UID:2969
DTSTAMP:20260419T211830
DTSTART:20220806T090000
DTEND:20220806T140000
SUMMARY:Torneig de Infantil de Pentanca de FM 
LOCATION:Pista de petanca municipal  
METHOD:PUBLISH
X-WR-CALNAME:st.llorensh@ajhortons.cat
X-WR-TIMEZONE:Europe/Madrid
DESCRIPTION:Edats per participar: de 6 a 12 anys.
(en equips de dos integrants)  
 

URI:https://www.ajhortons.cat/actualitat/agenda/torneig-de-infantil-de-pentanca-de-fm-.html
CLASS:PUBLIC
END:VEVENT
END:VCALENDAR
