BEGIN:VCALENDAR
VERSION:2.0
CALSCALE:GREGORIAN
PRODID:-//Diputació de Barcelona//DibaCMS//EN
BEGIN:VEVENT
UID:2980
DTSTAMP:20260420T061805
DTSTART:20220913T180000
DTEND:20220913T200000
SUMMARY:Taller: Viu l'esport de Forma Saludable 
LOCATION:Centre Joana Raspall 
METHOD:PUBLISH
X-WR-CALNAME:st.llorensh@ajhortons.cat
X-WR-TIMEZONE:Europe/Madrid
DESCRIPTION:Per joves de 11 a 16 anys 

URI:https://www.ajhortons.cat/actualitat/agenda/taller-viu-lesport-de-forma-saludable-.html
CLASS:PUBLIC
END:VEVENT
END:VCALENDAR
