BEGIN:VCALENDAR
VERSION:2.0
CALSCALE:GREGORIAN
PRODID:-//Diputació de Barcelona//DibaCMS//EN
BEGIN:VEVENT
UID:2984
DTSTAMP:20260420T043240
DTSTART:20220905T000000
DTEND:20220928T000000
SUMMARY:Inscripcions obertes: activitats esportives per infants
LOCATION:
METHOD:PUBLISH
X-WR-CALNAME:st.llorensh@ajhortons.cat
X-WR-TIMEZONE:Europe/Madrid
DESCRIPTION:
URI:https://www.ajhortons.cat/actualitat/agenda/inscripcions-obertes-activitats-esportives-per-infants.html
CLASS:PUBLIC
END:VEVENT
END:VCALENDAR
