BEGIN:VCALENDAR
VERSION:2.0
CALSCALE:GREGORIAN
PRODID:-//Diputació de Barcelona//DibaCMS//EN
BEGIN:VEVENT
UID:2988
DTSTAMP:20260420T024205
DTSTART:20220908T190000
DTEND:20220908T200000
SUMMARY:Dones de Sant Llorenç d'Hortons ,voleu dir la vostra?
LOCATION:Centre culural Joana Raspall  
METHOD:PUBLISH
X-WR-CALNAME:st.llorensh@ajhortons.cat
X-WR-TIMEZONE:Europe/Madrid
DESCRIPTION:
URI:https://www.ajhortons.cat/actualitat/agenda/dones-de-sant-llorenc-dhortons-voleu-dir-la-vostra.html
CLASS:PUBLIC
END:VEVENT
END:VCALENDAR
