BEGIN:VCALENDAR
VERSION:2.0
CALSCALE:GREGORIAN
PRODID:-//Diputació de Barcelona//DibaCMS//EN
BEGIN:VEVENT
UID:3015
DTSTAMP:20260420T043125
DTSTART:20221016T100000
DTEND:20221016T120000
SUMMARY:Taller Mirada endins
LOCATION:
METHOD:PUBLISH
X-WR-CALNAME:st.llorensh@ajhortons.cat
X-WR-TIMEZONE:Europe/Madrid
DESCRIPTION:Activitat gratuïta dirigida a dones

URI:https://www.ajhortons.cat/actualitat/agenda/taller-mirada-endins.html
CLASS:PUBLIC
END:VEVENT
END:VCALENDAR
