BEGIN:VCALENDAR
VERSION:2.0
CALSCALE:GREGORIAN
PRODID:-//Diputació de Barcelona//DibaCMS//EN
BEGIN:VEVENT
UID:3022
DTSTAMP:20260420T022556
DTSTART:20220916T091500
DTEND:20220916T101500
SUMMARY:PORTES OBERTES ACTIVITATS DITIGIDES: Activat
LOCATION:Sala Taronja 
Poliesportiu  
METHOD:PUBLISH
X-WR-CALNAME:st.llorensh@ajhortons.cat
X-WR-TIMEZONE:Europe/Madrid
DESCRIPTION:S'ha de reservar plaça a: esports@ajhortons.cat 

URI:https://www.ajhortons.cat/actualitat/agenda/portes-obertes-activitats-ditigides-activat.html
CLASS:PUBLIC
END:VEVENT
END:VCALENDAR
