BEGIN:VCALENDAR
VERSION:2.0
CALSCALE:GREGORIAN
PRODID:-//Diputació de Barcelona//DibaCMS//EN
BEGIN:VEVENT
UID:3023
DTSTAMP:20260420T042941
DTSTART:20220913T173000
DTEND:20220913T190500
SUMMARY:PORTES OBERTES  Entitats Esportives Futbol  
LOCATION:Sala Taronja 
Poliesportiu  
METHOD:PUBLISH
X-WR-CALNAME:st.llorensh@ajhortons.cat
X-WR-TIMEZONE:Europe/Madrid
DESCRIPTION:
	Nens i nenes de 5 a 12 anys de 17.30h a 19.00h.
	Mes  de 12 anys de 19.00h a20.30h 


URI:https://www.ajhortons.cat/actualitat/agenda/portes-obertes-entitats-esportives-futbol-.html
CLASS:PUBLIC
END:VEVENT
END:VCALENDAR
