BEGIN:VCALENDAR
VERSION:2.0
CALSCALE:GREGORIAN
PRODID:-//Diputació de Barcelona//DibaCMS//EN
BEGIN:VEVENT
UID:3025
DTSTAMP:20260420T024419
DTSTART:20220913T183000
DTEND:20220913T200000
SUMMARY:PORTES OBERTES  Entitats Esportives: Bàminton 
LOCATION:Sala Taronja 
Poliesportiu  
METHOD:PUBLISH
X-WR-CALNAME:st.llorensh@ajhortons.cat
X-WR-TIMEZONE:Europe/Madrid
DESCRIPTION:
	A partir de 3er 


URI:https://www.ajhortons.cat/actualitat/agenda/portes-obertes-entitats-esportives-baminton-.html
CLASS:PUBLIC
END:VEVENT
END:VCALENDAR
