BEGIN:VCALENDAR
VERSION:2.0
CALSCALE:GREGORIAN
PRODID:-//Diputació de Barcelona//DibaCMS//EN
BEGIN:VEVENT
UID:3060
DTSTAMP:20260420T043337
DTSTART:20221222T170000
DTEND:20221222T210000
SUMMARY:Bingo Nadalenc i xocolatada
LOCATION: Carrer - Diputació 27 - 08791 Sant Llorenç d'Hortons - Barcelona (Catalunya) 08791 Sant Llorenç d'Hortons
METHOD:PUBLISH
X-WR-CALNAME:st.llorensh@ajhortons.cat
X-WR-TIMEZONE:Europe/Madrid
DESCRIPTION:Al Casal dels avis

URI:https://www.ajhortons.cat/actualitat/agenda/bingo-nadalenc-i-xocolatada.html
CLASS:PUBLIC
END:VEVENT
END:VCALENDAR
