BEGIN:VCALENDAR
VERSION:2.0
CALSCALE:GREGORIAN
PRODID:-//Diputació de Barcelona//DibaCMS//EN
BEGIN:VEVENT
UID:3084
DTSTAMP:20260420T055732
DTSTART:20221029T000000
DTEND:20221029T000000
SUMMARY:Canvi d'hora ( A les 3 seran les 2)
LOCATION:
METHOD:PUBLISH
X-WR-CALNAME:st.llorensh@ajhortons.cat
X-WR-TIMEZONE:Europe/Madrid
DESCRIPTION:Diumenge 30 octubre nou horari 

URI:https://www.ajhortons.cat/actualitat/agenda/canvi-dhora--a-les-3-seran-les-2.html
CLASS:PUBLIC
END:VEVENT
END:VCALENDAR
