BEGIN:VCALENDAR
VERSION:2.0
CALSCALE:GREGORIAN
PRODID:-//Diputació de Barcelona//DibaCMS//EN
BEGIN:VEVENT
UID:3105
DTSTAMP:20260420T055604
DTSTART:20221103T183000
DTEND:20221103T193000
SUMMARY:Castanyada 2022  al casal de gent gran 
LOCATION:
METHOD:PUBLISH
X-WR-CALNAME:st.llorensh@ajhortons.cat
X-WR-TIMEZONE:Europe/Madrid
DESCRIPTION:
URI:https://www.ajhortons.cat/actualitat/agenda/castanyada-2022-al-casal-de-gent-gran-.html
CLASS:PUBLIC
END:VEVENT
END:VCALENDAR
