BEGIN:VCALENDAR
VERSION:2.0
CALSCALE:GREGORIAN
PRODID:-//Diputació de Barcelona//DibaCMS//EN
BEGIN:VEVENT
UID:3108
DTSTAMP:20260420T024815
DTSTART:20221018T090000
DTEND:20221018T140000
SUMMARY:Renovació DNI
LOCATION:Major, 36 08791 Sant Llorenç d'Hortons
METHOD:PUBLISH
X-WR-CALNAME:st.llorensh@ajhortons.cat
X-WR-TIMEZONE:Europe/Madrid
DESCRIPTION:Cal demanar cita prèvia al 93 771 60 00

URI:https://www.ajhortons.cat/actualitat/agenda/renovacio-dni.html
CLASS:PUBLIC
END:VEVENT
END:VCALENDAR
