BEGIN:VCALENDAR
VERSION:2.0
CALSCALE:GREGORIAN
PRODID:-//Diputació de Barcelona//DibaCMS//EN
BEGIN:VEVENT
UID:3109
DTSTAMP:20260420T081454
DTSTART:20230425T081500
DTEND:20230425T113000
SUMMARY:Renovació DNI
LOCATION:Major, 36 08791 Sant Llorenç d'Hortons
METHOD:PUBLISH
X-WR-CALNAME:st.llorensh@ajhortons.cat
X-WR-TIMEZONE:Europe/Madrid
DESCRIPTION:
URI:https://www.ajhortons.cat/actualitat/agenda/3109-renovacio-dni.html
CLASS:PUBLIC
END:VEVENT
END:VCALENDAR
