BEGIN:VCALENDAR
VERSION:2.0
CALSCALE:GREGORIAN
PRODID:-//Diputació de Barcelona//DibaCMS//EN
BEGIN:VEVENT
UID:3124
DTSTAMP:20260420T040726
DTSTART:20221022T180000
DTEND:20221023T123000
SUMMARY:Partits  de futbol: FC Club Hortonenc 
LOCATION:Josep Tarradelles, s/n 08791 Sant Llorenç d'Hortons
METHOD:PUBLISH
X-WR-CALNAME:st.llorensh@ajhortons.cat
X-WR-TIMEZONE:Europe/Madrid
DESCRIPTION:
URI:https://www.ajhortons.cat/actualitat/agenda/partits-de-futbol-fc-club-hortonenc-.html
CLASS:PUBLIC
END:VEVENT
END:VCALENDAR
