BEGIN:VCALENDAR
VERSION:2.0
CALSCALE:GREGORIAN
PRODID:-//Diputació de Barcelona//DibaCMS//EN
BEGIN:VEVENT
UID:3153
DTSTAMP:20260420T040639
DTSTART:20221124T100000
DTEND:20221124T120000
SUMMARY:Xarrem amb la gent gran: els mites de la sexualitat
LOCATION:Hermenegild Clascar, 1-3 08770 Vilafranca del Penedès
METHOD:PUBLISH
X-WR-CALNAME:st.llorensh@ajhortons.cat
X-WR-TIMEZONE:Europe/Madrid
DESCRIPTION:
URI:https://www.ajhortons.cat/actualitat/agenda/xarrem-amb-la-gent-gran-els-mites-de-la-sexualitat.html
CLASS:PUBLIC
END:VEVENT
END:VCALENDAR
