BEGIN:VCALENDAR
VERSION:2.0
CALSCALE:GREGORIAN
PRODID:-//Diputació de Barcelona//DibaCMS//EN
BEGIN:VEVENT
UID:3164
DTSTAMP:20260420T044110
DTSTART:20221214T183000
DTEND:20221214T203000
SUMMARY:Taller per a fer el Document de voluntats anticipades, el Testament vital
LOCATION: Carrer - Diputació 27 - 08791 Sant Llorenç d'Hortons - Barcelona (Catalunya) 08791 Sant Llorenç d'Hortons
METHOD:PUBLISH
X-WR-CALNAME:st.llorensh@ajhortons.cat
X-WR-TIMEZONE:Europe/Madrid
DESCRIPTION:
URI:https://www.ajhortons.cat/actualitat/agenda/taller-per-a-fer-el-document-de-voluntats-anticipades-el-testament-vital.html
CLASS:PUBLIC
END:VEVENT
END:VCALENDAR
