BEGIN:VCALENDAR
VERSION:2.0
CALSCALE:GREGORIAN
PRODID:-//Diputació de Barcelona//DibaCMS//EN
BEGIN:VEVENT
UID:3175
DTSTAMP:20260420T043448
DTSTART:20221214T103000
DTEND:20221214T130000
SUMMARY:Visita de la Unitat Mòbil d'Informació al Consumidor
LOCATION:Carrer Generalitat,47 
METHOD:PUBLISH
X-WR-CALNAME:st.llorensh@ajhortons.cat
X-WR-TIMEZONE:Europe/Madrid
DESCRIPTION:L'atenció serà al Centre Cultural Joana Raspall

URI:https://www.ajhortons.cat/actualitat/agenda/visita-de-la-unitat-mobil-dinformacio-al-consumidor.html
CLASS:PUBLIC
END:VEVENT
END:VCALENDAR
