BEGIN:VCALENDAR
VERSION:2.0
CALSCALE:GREGORIAN
PRODID:-//Diputació de Barcelona//DibaCMS//EN
BEGIN:VEVENT
UID:3202
DTSTAMP:20260420T043526
DTSTART:20221218T100000
DTEND:20221218T140000
SUMMARY:Venta samarretes del Terrazel per la Marató
LOCATION:
METHOD:PUBLISH
X-WR-CALNAME:st.llorensh@ajhortons.cat
X-WR-TIMEZONE:Europe/Madrid
DESCRIPTION:
URI:https://www.ajhortons.cat/actualitat/agenda/venta-samarretes-del-terrazel-per-la-marato.html
CLASS:PUBLIC
END:VEVENT
END:VCALENDAR
