BEGIN:VCALENDAR
VERSION:2.0
CALSCALE:GREGORIAN
PRODID:-//Diputació de Barcelona//DibaCMS//EN
BEGIN:VEVENT
UID:3221
DTSTAMP:20260420T055435
DTSTART:20230120T153000
DTEND:20230120T170000
SUMMARY:Grup de Suport Emocional i Ajuda Mútua
LOCATION:
METHOD:PUBLISH
X-WR-CALNAME:st.llorensh@ajhortons.cat
X-WR-TIMEZONE:Europe/Madrid
DESCRIPTION:
URI:https://www.ajhortons.cat/actualitat/agenda/grup-de-suport-emocional-i-ajuda-mutua.html
CLASS:PUBLIC
END:VEVENT
END:VCALENDAR
