BEGIN:VCALENDAR
VERSION:2.0
CALSCALE:GREGORIAN
PRODID:-//Diputació de Barcelona//DibaCMS//EN
BEGIN:VEVENT
UID:3234
DTSTAMP:20260420T075009
DTSTART:20230110T183000
DTEND:20230110T200000
SUMMARY:Taller sobre adolescència i emocions: "Com acompanyar als nostres fills/es en la gestió emocional"
LOCATION:
METHOD:PUBLISH
X-WR-CALNAME:st.llorensh@ajhortons.cat
X-WR-TIMEZONE:Europe/Madrid
DESCRIPTION:
URI:https://www.ajhortons.cat/actualitat/agenda/taller-sobre-adolescencia-i-emocions-com-acompanyar-als-nostres-fillses-en-la-gestio-emocional.html
CLASS:PUBLIC
END:VEVENT
END:VCALENDAR
