BEGIN:VCALENDAR
VERSION:2.0
CALSCALE:GREGORIAN
PRODID:-//Diputació de Barcelona//DibaCMS//EN
BEGIN:VEVENT
UID:3243
DTSTAMP:20260420T131538
DTSTART:20230812T213000
DTEND:20230813T010500
SUMMARY:CORREBARS "IBIZA"
LOCATION:El Cafè - Casa Font de l'Alzina - la Biela - el Setrill - Mambo - Art de Cuinar (La Sala) 
METHOD:PUBLISH
X-WR-CALNAME:st.llorensh@ajhortons.cat
X-WR-TIMEZONE:Europe/Madrid
DESCRIPTION:Actes Festa Major 2023

URI:https://www.ajhortons.cat/actualitat/agenda/correbars-ibiza.html
CLASS:PUBLIC
END:VEVENT
END:VCALENDAR
