BEGIN:VCALENDAR
VERSION:2.0
CALSCALE:GREGORIAN
PRODID:-//Diputació de Barcelona//DibaCMS//EN
BEGIN:VEVENT
UID:3248
DTSTAMP:20260420T055719
DTSTART:20230121T173000
DTEND:20230121T185000
SUMMARY:Pallassos Panettone Brothers
LOCATION:Major, 47 08791 Sant Llorenç d'Hortons
METHOD:PUBLISH
X-WR-CALNAME:st.llorensh@ajhortons.cat
X-WR-TIMEZONE:Europe/Madrid
DESCRIPTION:Sant Sebastià

URI:https://www.ajhortons.cat/actualitat/agenda/pallassos-panettone-brothers.html
CLASS:PUBLIC
END:VEVENT
END:VCALENDAR
