BEGIN:VCALENDAR
VERSION:2.0
CALSCALE:GREGORIAN
PRODID:-//Diputació de Barcelona//DibaCMS//EN
BEGIN:VEVENT
UID:3250
DTSTAMP:20260420T055748
DTSTART:20230121T220000
DTEND:20230121T230000
SUMMARY:Teatre Kampikipugui: Que tinguem salut!
LOCATION:Major, 47 08791 Sant Llorenç d'Hortons
METHOD:PUBLISH
X-WR-CALNAME:st.llorensh@ajhortons.cat
X-WR-TIMEZONE:Europe/Madrid
DESCRIPTION:Sant Sebastià

URI:https://www.ajhortons.cat/actualitat/agenda/teatre-kampikipugui-que-tinguem-salut.html
CLASS:PUBLIC
END:VEVENT
END:VCALENDAR
