BEGIN:VCALENDAR
VERSION:2.0
CALSCALE:GREGORIAN
PRODID:-//Diputació de Barcelona//DibaCMS//EN
BEGIN:VEVENT
UID:3252
DTSTAMP:20260420T055621
DTSTART:20230122T180000
DTEND:20230122T190000
SUMMARY:Metropolitan Union en concert (quartet de veus)
LOCATION:l'Església Parroquial de St Llorenç d'Hortons 
METHOD:PUBLISH
X-WR-CALNAME:st.llorensh@ajhortons.cat
X-WR-TIMEZONE:Europe/Madrid
DESCRIPTION:Sant Sebastià

URI:https://www.ajhortons.cat/actualitat/agenda/metropolitan-union-en-concert-quartet-de-veus.html
CLASS:PUBLIC
END:VEVENT
END:VCALENDAR
