BEGIN:VCALENDAR
VERSION:2.0
CALSCALE:GREGORIAN
PRODID:-//Diputació de Barcelona//DibaCMS//EN
BEGIN:VEVENT
UID:3255
DTSTAMP:20260420T145328
DTSTART:20230208T103000
DTEND:20230208T130000
SUMMARY:Visita de l'Oficina del Consumidor 
LOCATION:Centre Cultural del Joana Raspall  
METHOD:PUBLISH
X-WR-CALNAME:st.llorensh@ajhortons.cat
X-WR-TIMEZONE:Europe/Madrid
DESCRIPTION:
URI:https://www.ajhortons.cat/actualitat/agenda/visita-de-loficina-del-consumidor-.html
CLASS:PUBLIC
END:VEVENT
END:VCALENDAR
