BEGIN:VCALENDAR
VERSION:2.0
CALSCALE:GREGORIAN
PRODID:-//Diputació de Barcelona//DibaCMS//EN
BEGIN:VEVENT
UID:3298
DTSTAMP:20260420T063618
DTSTART:20230304T213000
DTEND:20230305T040000
SUMMARY:Festa de Carnaval de La Marrinxa
LOCATION:
METHOD:PUBLISH
X-WR-CALNAME:st.llorensh@ajhortons.cat
X-WR-TIMEZONE:Europe/Madrid
DESCRIPTION:
URI:https://www.ajhortons.cat/actualitat/agenda/festa-de-carnaval-de-la-marrinxa.html
CLASS:PUBLIC
END:VEVENT
END:VCALENDAR
