BEGIN:VCALENDAR
VERSION:2.0
CALSCALE:GREGORIAN
PRODID:-//Diputació de Barcelona//DibaCMS//EN
BEGIN:VEVENT
UID:3321
DTSTAMP:20260420T063439
DTSTART:20230314T150000
DTEND:20230314T190000
SUMMARY:Jornada de donació de sang
LOCATION:
METHOD:PUBLISH
X-WR-CALNAME:st.llorensh@ajhortons.cat
X-WR-TIMEZONE:Europe/Madrid
DESCRIPTION:
URI:https://www.ajhortons.cat/actualitat/agenda/3321-jornada-de-donacio-de-sang.html
CLASS:PUBLIC
END:VEVENT
END:VCALENDAR
