BEGIN:VCALENDAR
VERSION:2.0
CALSCALE:GREGORIAN
PRODID:-//Diputació de Barcelona//DibaCMS//EN
BEGIN:VEVENT
UID:3338
DTSTAMP:20260420T081617
DTSTART:20230422T200000
DTEND:20230422T202500
SUMMARY:VIART - Molt o poc clar? (teatre)
LOCATION:
METHOD:PUBLISH
X-WR-CALNAME:st.llorensh@ajhortons.cat
X-WR-TIMEZONE:Europe/Madrid
DESCRIPTION:Obre de teatre inèdita

URI:https://www.ajhortons.cat/temes/cultura/viart-2023/agenda-viart-2023/agenda-general-viart-2023/viart-molt-o-poc-clar-teatre.html
CLASS:PUBLIC
END:VEVENT
END:VCALENDAR
