BEGIN:VCALENDAR
VERSION:2.0
CALSCALE:GREGORIAN
PRODID:-//Diputació de Barcelona//DibaCMS//EN
BEGIN:VEVENT
UID:3346
DTSTAMP:20260420T074021
DTSTART:20230422T110000
DTEND:20230422T220000
SUMMARY:Viart 2023 - PROGRAMA
LOCATION:
METHOD:PUBLISH
X-WR-CALNAME:st.llorensh@ajhortons.cat
X-WR-TIMEZONE:Europe/Madrid
DESCRIPTION:
URI:https://www.ajhortons.cat/temes/cultura/viart-2023/agenda-viart-2023/agenda-general-viart-2023/viart-2023-programa.html
CLASS:PUBLIC
END:VEVENT
END:VCALENDAR
