BEGIN:VCALENDAR
VERSION:2.0
CALSCALE:GREGORIAN
PRODID:-//Diputació de Barcelona//DibaCMS//EN
BEGIN:VEVENT
UID:3355
DTSTAMP:20260420T075746
DTSTART:20230422T150000
DTEND:20230422T200000
SUMMARY:VIART - Exposició de clikcks de playmobil 
LOCATION:Casal dels avis (Al costat del Cafè) 
METHOD:PUBLISH
X-WR-CALNAME:st.llorensh@ajhortons.cat
X-WR-TIMEZONE:Europe/Madrid
DESCRIPTION:Horari de matí i tarda - entrada gratuïta

URI:https://www.ajhortons.cat/temes/cultura/viart-2023/agenda-viart-2023/agenda-general-viart-2023/viart-exposicio-de-clikcks-de-playmobil-.html
CLASS:PUBLIC
END:VEVENT
END:VCALENDAR
