BEGIN:VCALENDAR
VERSION:2.0
CALSCALE:GREGORIAN
PRODID:-//Diputació de Barcelona//DibaCMS//EN
BEGIN:VEVENT
UID:3357
DTSTAMP:20260420T075439
DTSTART:20230422T113000
DTEND:20230422T123000
SUMMARY:VIART - Taller de pintura infantil (A)
LOCATION:Major, 27 08791 Sant Llorenç d'Hortons
METHOD:PUBLISH
X-WR-CALNAME:st.llorensh@ajhortons.cat
X-WR-TIMEZONE:Europe/Madrid
DESCRIPTION:Places limitades!

URI:https://www.ajhortons.cat/temes/cultura/viart-2023/agenda-viart-2023/agenda-juvenil--infantil-viart-2023/viart-taller-de-pintura-infantil-a.html
CLASS:PUBLIC
END:VEVENT
END:VCALENDAR
